BEGIN:VCALENDAR
VERSION:2.0
PRODID:-//Parade&#039;s End Books - ECPv6.15.20//NONSGML v1.0//EN
CALSCALE:GREGORIAN
METHOD:PUBLISH
X-WR-CALNAME:Parade&#039;s End Books
X-ORIGINAL-URL:https://paradesendbooks.co.uk
X-WR-CALDESC:Events for Parade&#039;s End Books
REFRESH-INTERVAL;VALUE=DURATION:PT1H
X-Robots-Tag:noindex
X-PUBLISHED-TTL:PT1H
BEGIN:VTIMEZONE
TZID:UTC
BEGIN:STANDARD
TZOFFSETFROM:+0000
TZOFFSETTO:+0000
TZNAME:UTC
DTSTART:20240101T000000
END:STANDARD
END:VTIMEZONE
BEGIN:VEVENT
DTSTART;TZID=UTC:20250712T190000
DTEND;TZID=UTC:20250712T200000
DTSTAMP:20260420T084856
CREATED:20250620T102329Z
LAST-MODIFIED:20250620T102329Z
UID:20205-1752346800-1752350400@paradesendbooks.co.uk
SUMMARY:Hair Rig by Toby Adams
DESCRIPTION:Ever wondered why anglers go fishing? \nDon’t worry. They’re wondering as well.  \nToby Adams has been performing stand-up/spoken word for twenty years. Hair Rig is a new 45 minute gentle comedy about fishing the Thames. \nJoin us at Parade’s End for this summer comedy treat! Get your tickets online here\, instore\, or by phone at 020 8549 5425. \nPraise for Toby’s previous shows:\n‘A special experience.. I laughed a lot.’ – Stewart Lee\n‘Quiet charisma… charming… treat yourself.’ – Chortle
URL:https://paradesendbooks.co.uk/event/hair-rig-by-toby-adams
LOCATION:Parade’s End Books\, 406 Richmond Road\, KT2 5QF\, United Kingdom
ATTACH;FMTTYPE=image/jpeg:https://paradesendbooks.co.uk/wp-content/uploads/2025/06/Hair-Rig-poster.jpg
END:VEVENT
END:VCALENDAR