BEGIN:VCALENDAR
VERSION:2.0
PRODID:-//Parade&#039;s End Books - ECPv6.15.20//NONSGML v1.0//EN
CALSCALE:GREGORIAN
METHOD:PUBLISH
X-ORIGINAL-URL:https://paradesendbooks.co.uk
X-WR-CALDESC:Events for Parade&#039;s End Books
REFRESH-INTERVAL;VALUE=DURATION:PT1H
X-Robots-Tag:noindex
X-PUBLISHED-TTL:PT1H
BEGIN:VTIMEZONE
TZID:UTC
BEGIN:STANDARD
TZOFFSETFROM:+0000
TZOFFSETTO:+0000
TZNAME:UTC
DTSTART:20250101T000000
END:STANDARD
END:VTIMEZONE
BEGIN:VEVENT
DTSTART;TZID=UTC:20260411T190000
DTEND;TZID=UTC:20260411T210000
DTSTAMP:20260423T084812
CREATED:20260317T193847Z
LAST-MODIFIED:20260317T193847Z
UID:23333-1775934000-1775941200@paradesendbooks.co.uk
SUMMARY:Jazz Night
DESCRIPTION:Jazz Night at Parade’s End is back! Join us to welcome the fantastic Alice Black Trio for an evening of jazz favourites. Featuring Alice Black on vocals\, Dave Black on piano\, sax and flute\, and Shane Hill on guitar. \nTickets are £15 – get yours here. We’d recommend booking early as jazz evenings tend to sell out quickly!
URL:https://paradesendbooks.co.uk/event/jazz-night-3
LOCATION:Parade’s End Books\, 406 Richmond Road\, KT2 5QF\, United Kingdom
ATTACH;FMTTYPE=image/jpeg:https://paradesendbooks.co.uk/wp-content/uploads/2026/03/IMG_3896.jpg
END:VEVENT
BEGIN:VEVENT
DTSTART;TZID=UTC:20260423T190000
DTEND;TZID=UTC:20260423T210000
DTSTAMP:20260423T084812
CREATED:20260325T193629Z
LAST-MODIFIED:20260325T193629Z
UID:23349-1776970800-1776978000@paradesendbooks.co.uk
SUMMARY:Games Night
DESCRIPTION:Love to relax & connect in person? \nThen join us for Games Night (aka Digital Detox Club) at Parade’s End Bookshop: the club usually runs every 1st & 3rd Thursday of the month – 7-9pm \nWhat to expect? No phones. No screens. Just a peaceful\, relaxed\, social evening. \nWhat we provide? Board games\, cards\, jigsaws\, a free drink & nibbles. \nWhat to bring? Just yourself\, and maybe a craft or activity of your choice – be that knitting\, a board game\, or a musical instrument! \n£12 a time or £30 for 3 nights. Either book online here\, instore or pay on the night!
URL:https://paradesendbooks.co.uk/event/games-night-4
ATTACH;FMTTYPE=image/jpeg:https://paradesendbooks.co.uk/wp-content/uploads/2026/02/Digital-Detox-Club-poster-2.jpg
END:VEVENT
BEGIN:VEVENT
DTSTART;TZID=UTC:20260507T190000
DTEND;TZID=UTC:20260507T210000
DTSTAMP:20260423T084812
CREATED:20260422T175429Z
LAST-MODIFIED:20260422T183637Z
UID:24030-1778180400-1778187600@paradesendbooks.co.uk
SUMMARY:Games Night
DESCRIPTION:Love to relax & connect in person? \nThen join us for Games Night (aka Digital Detox Club) at Parade’s End Bookshop: the club usually runs every 1st & 3rd Thursday of the month – 7-9pm \nWhat to expect? No phones. No screens. Just a peaceful\, relaxed\, social evening. \nWhat we provide? Board games\, cards\, jigsaws\, a free drink & nibbles. \nWhat to bring? Just yourself\, and maybe a craft or activity of your choice – be that knitting\, a board game\, or a musical instrument! \n£12 a time or £30 for 3 nights. Either book online here\, instore or pay on the night!
URL:https://paradesendbooks.co.uk/event/games-night-5
LOCATION:Parade’s End Books\, 406 Richmond Road\, KT2 5QF\, United Kingdom
ATTACH;FMTTYPE=image/jpeg:https://paradesendbooks.co.uk/wp-content/uploads/2026/02/Digital-Detox-Club-poster-2.jpg
END:VEVENT
BEGIN:VEVENT
DTSTART;TZID=UTC:20260516T190000
DTEND;TZID=UTC:20260516T210000
DTSTAMP:20260423T084812
CREATED:20260325T215249Z
LAST-MODIFIED:20260325T215249Z
UID:23353-1778958000-1778965200@paradesendbooks.co.uk
SUMMARY:LIVE MUSIC: The Retro Rockets
DESCRIPTION:Join us for a night of live music\, as the Retro Rockets play hits from the 50s\, 60s\, 70s and 80s. Settle in\, grab a drink\, and get ready to hear all your favourite tunes! \nTickets are £15 – get yours here.  \nLive music events tend to sell out\, so we’d recommend booking early!
URL:https://paradesendbooks.co.uk/event/live-music-the-retro-rockets
LOCATION:Parade’s End Books\, 406 Richmond Road\, KT2 5QF\, United Kingdom
ATTACH;FMTTYPE=image/jpeg:https://paradesendbooks.co.uk/wp-content/uploads/2026/03/Retro-rockets-music-poster.jpg
END:VEVENT
BEGIN:VEVENT
DTSTART;TZID=UTC:20260521T190000
DTEND;TZID=UTC:20260521T210000
DTSTAMP:20260423T084812
CREATED:20260422T183737Z
LAST-MODIFIED:20260422T183737Z
UID:24032-1779390000-1779397200@paradesendbooks.co.uk
SUMMARY:Games Night
DESCRIPTION:Love to relax & connect in person? \nThen join us for Games Night (aka Digital Detox Club) at Parade’s End Bookshop: the club usually runs every 1st & 3rd Thursday of the month – 7-9pm \nWhat to expect? No phones. No screens. Just a peaceful\, relaxed\, social evening. \nWhat we provide? Board games\, cards\, jigsaws\, a free drink & nibbles. \nWhat to bring? Just yourself\, and maybe a craft or activity of your choice – be that knitting\, a board game\, or a musical instrument! \n£12 a time or £30 for 3 nights. Either book online here\, instore or pay on the night!
URL:https://paradesendbooks.co.uk/event/games-night-6
LOCATION:Parade’s End Books\, 406 Richmond Road\, KT2 5QF\, United Kingdom
ATTACH;FMTTYPE=image/jpeg:https://paradesendbooks.co.uk/wp-content/uploads/2026/02/Digital-Detox-Club-poster-2.jpg
END:VEVENT
BEGIN:VEVENT
DTSTART;TZID=UTC:20260529T190000
DTEND;TZID=UTC:20260529T203000
DTSTAMP:20260423T084812
CREATED:20260422T185258Z
LAST-MODIFIED:20260422T185554Z
UID:24034-1780081200-1780086600@paradesendbooks.co.uk
SUMMARY:An Evening with Author Jess Kidd
DESCRIPTION:Join us to welcome back the brilliant Jess Kidd to celebrate the release of her new thriller Murder at the Spirit Lounge.  Jess will tell us all about this highly-anticipated sequel to Murder at Gulls Nest (a Parade’s End favourite)\, and there will be a chance to ask all your burning questions and get a signed copy! \nTickets are £5 – get yours here. \nAbout the book: \nSharp-eyed former nun Nora Breen is back\, as the latest attraction in Gore-on-Sea turns deadly . . . \nOn a brilliant December morning\, Nora finds her customary seaside walk rudely interrupted: she’s been summoned\, with Detective Inspector Rideout\, to the home of Doreen Chimes\, Gore-on-Sea’s resident medium. Chimes would like to report a robbery – and to personally invite Rideout to that evening’s private séance. It’s an invitation he will regret accepting: the evening ends in a suspiciously spooky murder. \nAnd in the coming days\, more of the attendees will find themselves in peril. Can Nora figure out who – or what – is behind these spectral killings before it’s too late?
URL:https://paradesendbooks.co.uk/event/an-evening-with-author-jess-kidd-2
LOCATION:Parade’s End Books\, 406 Richmond Road\, KT2 5QF\, United Kingdom
ATTACH;FMTTYPE=image/png:https://paradesendbooks.co.uk/wp-content/uploads/2026/04/Jess-Kidd-Parades-End-Books-poster.png
END:VEVENT
BEGIN:VEVENT
DTSTART;TZID=UTC:20260606T190000
DTEND;TZID=UTC:20260606T210000
DTSTAMP:20260423T084812
CREATED:20260303T180901Z
LAST-MODIFIED:20260320T084601Z
UID:23294-1780772400-1780779600@paradesendbooks.co.uk
SUMMARY:Chas & Jonno Music Night
DESCRIPTION:Join us for a springtime mix of songs\, spoken word and musical surprises! \nSuggested donation is £10 — all proceeds will go to the bookshop (this is a fundraising event for us) so we’ve got different ticket options if you would like to donate more. Get your ticket here or instore. We can’t wait to see you there!
URL:https://paradesendbooks.co.uk/event/chas-jonno-music-night
LOCATION:Parade’s End Books\, 406 Richmond Road\, KT2 5QF\, United Kingdom
ATTACH;FMTTYPE=image/jpeg:https://paradesendbooks.co.uk/wp-content/uploads/2026/03/Black-And-Blue-Minimalistic-Music-Festival-Poster.jpg
END:VEVENT
END:VCALENDAR